BEGIN:VCALENDAR
VERSION:2.0
PRODID:-//Idaho Adventure Motorcycle Club - ECPv6.15.20//NONSGML v1.0//EN
CALSCALE:GREGORIAN
METHOD:PUBLISH
X-WR-CALNAME:Idaho Adventure Motorcycle Club
X-ORIGINAL-URL:https://motoidaho.com
X-WR-CALDESC:Events for Idaho Adventure Motorcycle Club
REFRESH-INTERVAL;VALUE=DURATION:PT1H
X-Robots-Tag:noindex
X-PUBLISHED-TTL:PT1H
BEGIN:VTIMEZONE
TZID:America/Boise
BEGIN:DAYLIGHT
TZOFFSETFROM:-0700
TZOFFSETTO:-0600
TZNAME:MDT
DTSTART:20230312T090000
END:DAYLIGHT
BEGIN:STANDARD
TZOFFSETFROM:-0600
TZOFFSETTO:-0700
TZNAME:MST
DTSTART:20231105T080000
END:STANDARD
BEGIN:DAYLIGHT
TZOFFSETFROM:-0700
TZOFFSETTO:-0600
TZNAME:MDT
DTSTART:20240310T090000
END:DAYLIGHT
BEGIN:STANDARD
TZOFFSETFROM:-0600
TZOFFSETTO:-0700
TZNAME:MST
DTSTART:20241103T080000
END:STANDARD
BEGIN:DAYLIGHT
TZOFFSETFROM:-0700
TZOFFSETTO:-0600
TZNAME:MDT
DTSTART:20250309T090000
END:DAYLIGHT
BEGIN:STANDARD
TZOFFSETFROM:-0600
TZOFFSETTO:-0700
TZNAME:MST
DTSTART:20251102T080000
END:STANDARD
BEGIN:DAYLIGHT
TZOFFSETFROM:-0700
TZOFFSETTO:-0600
TZNAME:MDT
DTSTART:20260308T090000
END:DAYLIGHT
BEGIN:STANDARD
TZOFFSETFROM:-0600
TZOFFSETTO:-0700
TZNAME:MST
DTSTART:20261101T080000
END:STANDARD
BEGIN:DAYLIGHT
TZOFFSETFROM:-0700
TZOFFSETTO:-0600
TZNAME:MDT
DTSTART:20270314T090000
END:DAYLIGHT
BEGIN:STANDARD
TZOFFSETFROM:-0600
TZOFFSETTO:-0700
TZNAME:MST
DTSTART:20271107T080000
END:STANDARD
END:VTIMEZONE
BEGIN:VTIMEZONE
TZID:UTC
BEGIN:STANDARD
TZOFFSETFROM:+0000
TZOFFSETTO:+0000
TZNAME:UTC
DTSTART:20230101T000000
END:STANDARD
END:VTIMEZONE
BEGIN:VEVENT
DTSTART;TZID=America/Boise:20260418T120000
DTEND;TZID=America/Boise:20260418T150000
DTSTAMP:20260421T034646
CREATED:20260330T175232Z
LAST-MODIFIED:20260330T175550Z
UID:6833-1776513600-1776524400@motoidaho.com
SUMMARY:2026 IAMC Challenge Kickoff Picnic
DESCRIPTION:Join us for our 2026 IAMC Challenge Kickoff on Saturday\, April 18th\, at noon at Liberty Park (600 Constitution Way\, Nampa\, ID 83687)! \nWe’ll be serving up burgers\, hot dogs\, sides\, drinks\, and more\, so come hungry! If you’re able\, feel free to bring a dish to share. \nFamilies are welcome—there’s a playground right next to the pavilion for the kids to enjoy. \nWe’ll also have bandanas available for pickup or purchase for the 2026 Challenge\, and if you need help with registration\, we’ve got you covered! \nLooking forward to seeing you there! 🎉
URL:https://motoidaho.com/event/2026-iamc-challenge-kickoff-picnic/
LOCATION:Liberty Park\, 600 Constitution Way\, Nampa\, ID\, 83686\, United States
CATEGORIES:Club Meeting
ATTACH;FMTTYPE=image/jpeg:https://motoidaho.com/wp-content/uploads/2025/03/436765155_10159259826432282_1975332512336649931_n.jpg
ORGANIZER;CN="Alex Crane":MAILTO:crane550@gmail.com
END:VEVENT
BEGIN:VEVENT
DTSTART;TZID=America/Boise:20260221T120000
DTEND;TZID=America/Boise:20260221T140000
DTSTAMP:20260421T034646
CREATED:20260203T165854Z
LAST-MODIFIED:20260203T170021Z
UID:6816-1771675200-1771682400@motoidaho.com
SUMMARY:2025 IAMC Challenge End of Year Awards
DESCRIPTION:🏆 Idaho Adventure Motorcycle Club – 2025 End-of-Year Awards 🏍️ \nJoin us as we wrap up an incredible year of riding\, exploring\, and challenges at the 2025 IAMC End-of-Year Awards Ceremony! \nWe’ll be recognizing and awarding prizes to Challenge members who earned Platinum\, Gold\, and Silver rankings during the 2025 season. This is our chance to celebrate the miles\, the grit\, and the stories that made this year one to remember. \n📍 Location:Idaho Pizza Company7444 W Fairview Ave\, Boise\, ID 83704(Cole & Fairview location — this is a different Idaho Pizza Company than last year) \n🗓️ Date: Saturday\, February 21st⏰ Time: 12:00 PM (Noon) \nCome hungry\, bring your challenge stories\, and help us celebrate the riders who went the extra mile this year. Whether you’re receiving an award or cheering on fellow members\, we’d love to see you there. \nSee you soon—and congratulations to all our 2025 Challenge finishers! 🥇🥈🥉
URL:https://motoidaho.com/event/2025-iamc-challenge-end-of-year-awards/
LOCATION:Idaho Pizza Company\, Cole and Fairview\, 7444 W. Fairview Ave\, Boise\, ID\, 83704\, United States
CATEGORIES:Club Meeting
ATTACH;FMTTYPE=image/jpeg:https://motoidaho.com/wp-content/uploads/2026/02/25db30f9-a862-4fb1-ae20-66b9a9ea99d5.jpg
ORGANIZER;CN="IAMC":MAILTO:motoidaho@gmail.com
END:VEVENT
BEGIN:VEVENT
DTSTART;TZID=America/Boise:20250816T100000
DTEND;TZID=America/Boise:20250816T140000
DTSTAMP:20260421T034646
CREATED:20250806T041953Z
LAST-MODIFIED:20250806T041953Z
UID:6567-1755338400-1755352800@motoidaho.com
SUMMARY:Let's Taco 'bout Motorcycles - Club Meet and Greet
DESCRIPTION:Hello Adventure Riders\, \nWe are long overdue for a gettogether\, so we invite you to join us for tacos at Storey Park at 205 E Franklin Rd in Meridian\, August 16th\, 2025. This is a club sponsored event\, we will be serving some of the best birria street tacos you have ever had- guaranteed. We aren’t messing around here. Seriously\, you want in on this. We have the picnic shelter from 9 to 2\, but we plan to be there around 10 and have food ready around 11:30. \nBring a friend\, bring the family. There will be a donation jar and 100% of the proceeds goes back into the club\, although no donation is required. \nCan’t wait to see ya’ll there. If you want to bring a side that goes will with tacos\, all the better. \nRegards\, \nAlex\, IAMC President
URL:https://motoidaho.com/event/lets-taco-bout-motorcycles-club-meet-and-greet/
LOCATION:Storey Park\, 205 E Franklin Rd\, Meridian\, ID\, 83642\, United States
CATEGORIES:Club Meeting
ATTACH;FMTTYPE=image/jpeg:https://motoidaho.com/wp-content/uploads/2025/08/20250715_183126.jpg
ORGANIZER;CN="Alex Crane":MAILTO:crane550@gmail.com
END:VEVENT
BEGIN:VEVENT
DTSTART;TZID=America/Boise:20250510T120000
DTEND;TZID=America/Boise:20250510T150000
DTSTAMP:20260421T034646
CREATED:20250416T030056Z
LAST-MODIFIED:20250416T030056Z
UID:5873-1746878400-1746889200@motoidaho.com
SUMMARY:Trail Tire Repair clinic
DESCRIPTION:I’m going to host a trail tire repair clinic with tips and tricks for trail repairs. If you are in need of new tires on your bike\, you can bring them by with your bike or just the wheel (I do recommend a new tube also\, just in case). I need to know if you plan on bringing your bike for tires so I can plan accordingly. I may have to limit how many we do. If you have any questions please ask or message me. snacks will be supplied.
URL:https://motoidaho.com/event/trail-tire-repair-clinic/
LOCATION:Special Ed’s\, 515 Mulberyy Loop\, Nampa\, ID\, 83686\, United States
CATEGORIES:Club Meeting
ATTACH;FMTTYPE=image/jpeg:https://motoidaho.com/wp-content/uploads/2025/04/DSCF5775-scaled.jpg
ORGANIZER;CN="Special Ed":MAILTO:special.ed65@gmail.com
END:VEVENT
BEGIN:VEVENT
DTSTART;TZID=America/Boise:20250405T120000
DTEND;TZID=America/Boise:20250405T150000
DTSTAMP:20260421T034646
CREATED:20250302T155600Z
LAST-MODIFIED:20250303T184318Z
UID:5194-1743854400-1743865200@motoidaho.com
SUMMARY:2025 IAMC Challenge Kickoff Picnic
DESCRIPTION:Join us for our 2205 IAMC Challenge Kickoff on Saturday\, April 5th\, at noon at Liberty Park (600 Constitution Way\, Nampa\, ID 83687)! \nWe’ll be serving up burgers\, hot dogs\, sides\, drinks\, and more\, so come hungry! If you’re able\, feel free to bring a dish to share. \nFamilies are welcome—there’s a playground right next to the pavilion for the kids to enjoy. \nWe’ll also have bandanas available for pickup or purchase for the 2025 Challenge\, and if you need help with registration\, we’ve got you covered! \nLooking forward to seeing you there! 🎉
URL:https://motoidaho.com/event/2025-iamc-challenge-kickoff-picnic/
LOCATION:Liberty Park\, 600 Constitution Way\, Nampa\, ID\, 83686\, United States
CATEGORIES:Club Meeting
ATTACH;FMTTYPE=image/jpeg:https://motoidaho.com/wp-content/uploads/2025/03/436765155_10159259826432282_1975332512336649931_n.jpg
ORGANIZER;CN="Alex Crane":MAILTO:crane550@gmail.com
END:VEVENT
BEGIN:VEVENT
DTSTART;TZID=America/Boise:20250329T130000
DTEND;TZID=America/Boise:20250329T160000
DTSTAMP:20260421T034646
CREATED:20250318T051738Z
LAST-MODIFIED:20250318T051738Z
UID:5225-1743253200-1743264000@motoidaho.com
SUMMARY:IAMC Tire Changing Workshop
DESCRIPTION:I’m going to host a tire changing workshop with tips and tricks for trail repairs. If you are in need of new tires on your bike\, you can bring them by with your bike or just the wheel (I do recommend a new tube also\, just in case). I need to know if you plan on bringing your bike for tires so I can plan accordingly. I may have to limit how many we do. If you have any questions please ask or message me. I plan on doing another one in late April also if this one goes well.
URL:https://motoidaho.com/event/iamc-tire-changing-workshop/
LOCATION:Special Ed’s\, 515 Mulberyy Loop\, Nampa\, ID\, 83686\, United States
CATEGORIES:Club Meeting
ATTACH;FMTTYPE=image/jpeg:https://motoidaho.com/wp-content/uploads/2025/03/484051547_4084608495191736_8291075925619045353_n.jpg
ORGANIZER;CN="Special Ed":MAILTO:special.ed65@gmail.com
END:VEVENT
BEGIN:VEVENT
DTSTART;TZID=America/Boise:20250301T120000
DTEND;TZID=America/Boise:20250301T150000
DTSTAMP:20260421T034646
CREATED:20250211T223749Z
LAST-MODIFIED:20250211T230754Z
UID:5140-1740830400-1740841200@motoidaho.com
SUMMARY:2024 IAMC Challenge End of Year Awards
DESCRIPTION:IAMC Challenge Awards & Club Meetup! \nHey everyone! Mark your calendars—Saturday\, March 1st at Noon at Idaho Pizza Company (5150 W Overland Rd\, Boise\, ID 83705). \nAll club members are welcome\, whether you took part in the 2024 IAMC Challenge or not! We’re handing out over $3\,000 in prizes to those who ranked Platinum\, Silver\, and Gold\, so come celebrate with us. \nGrab some food (they’ve got an awesome buffet)\, hang out with fellow riders\, and get a sneak peek at what’s coming next year. \nA huge thanks to everyone who participated in the Challenge—and even if you bought in but didn’t ride\, we still appreciate your support. That’s what keeps our club rolling! \nSee you there! 🍕🏍️
URL:https://motoidaho.com/event/2024-iamc-challenge-end-of-year-awards/
LOCATION:Idaho Pizza Company\, Overland\, 5150 W Overland Rd\, Boise\, ID\, 83705\, United States
CATEGORIES:Club Meeting
ATTACH;FMTTYPE=image/jpeg:https://motoidaho.com/wp-content/uploads/2025/02/Screenshot-2025-02-11-153617.jpg
ORGANIZER;CN="IAMC":MAILTO:motoidaho@gmail.com
END:VEVENT
BEGIN:VEVENT
DTSTART;TZID=America/Boise:20240406T120000
DTEND;TZID=America/Boise:20240406T160000
DTSTAMP:20260421T034646
CREATED:20240323T162009Z
LAST-MODIFIED:20240323T162544Z
UID:2084-1712404800-1712419200@motoidaho.com
SUMMARY:2024 IAMC Challenge Kickoff Picnic
DESCRIPTION:Everyone is welcome to to join us for the 2024 IAMC Challenge Kickoff Picnic! \n\n\n\nWe are meeting at Liberty Park in Nampa on April 6th\, 2024 from noon to 4. Food and drinks will be served\, and challenge members will have their bandanna ready for pickup. We will try to have food ready about 12:30. The park is located at 600 Constitution Way\, Nampa\, ID 83686.  \n\n\n\nIf you can\, feel free to bring a side dish to share\, but it’s not required. \nBe sure to sign up for the 2024 Challenge if you have not already done so. While there is not cutoff for signing up for the challenge\, it would be best to do it before the picnic so we can have your bandanna ready. \n\n\n\n\n\nPlease let us know you’re coming in the comments below.
URL:https://motoidaho.com/event/2024-iamc-challenge-kickoff-picnic/
LOCATION:Liberty Park\, 600 Constitution Way\, Nampa\, ID\, 83686\, United States
CATEGORIES:Club Meeting
ATTACH;FMTTYPE=image/jpeg:https://motoidaho.com/wp-content/uploads/2024/03/grilling.jpg
ORGANIZER;CN="IAMC":MAILTO:motoidaho@gmail.com
END:VEVENT
BEGIN:VEVENT
DTSTART;TZID=UTC:20240309T120000
DTEND;TZID=UTC:20240309T150000
DTSTAMP:20260421T034646
CREATED:20240226T044334Z
LAST-MODIFIED:20240226T175543Z
UID:341-1709985600-1709996400@motoidaho.com
SUMMARY:IAMC Club Meeting
DESCRIPTION:Hi Folks\, \nWe will be meeting on March 9th\, 2024 to discuss this upcoming year and the direction of the IAMC. We are planning to discuss the challenge\, the structure of the club\, and get ideas for this upcoming riding season. Most of all it’s a great chance to catch up with old friends and make new ones. \nWe are meeting at Idaho Pizza Company in Boise\, which is near Cole & Fairview. There is no cost for the event\, but you will need to buy your own food. Idaho Pizza Company has a great pizza buffet and salad bar. \nPlan to be there at noon. We will likely go 2 to 3 hours. If you have any questions please reach out to Alex\, Ron\, or SpecialEd. Leave a comment below if you’re planning to come!
URL:https://motoidaho.com/event/iamc-club-meeting/
LOCATION:Idaho Pizza Company\, Cole and Fairview\, 7444 W. Fairview Ave\, Boise\, ID\, 83704\, United States
CATEGORIES:Club Meeting
ATTACH;FMTTYPE=image/jpeg:https://motoidaho.com/wp-content/uploads/2024/02/pizza.jpg
END:VEVENT
END:VCALENDAR