BEGIN:VCALENDAR
VERSION:2.0
PRODID:-//Idaho Adventure Motorcycle Club - ECPv6.15.20//NONSGML v1.0//EN
CALSCALE:GREGORIAN
METHOD:PUBLISH
X-ORIGINAL-URL:https://motoidaho.com
X-WR-CALDESC:Events for Idaho Adventure Motorcycle Club
REFRESH-INTERVAL;VALUE=DURATION:PT1H
X-Robots-Tag:noindex
X-PUBLISHED-TTL:PT1H
BEGIN:VTIMEZONE
TZID:America/Boise
BEGIN:DAYLIGHT
TZOFFSETFROM:-0700
TZOFFSETTO:-0600
TZNAME:MDT
DTSTART:20250309T090000
END:DAYLIGHT
BEGIN:STANDARD
TZOFFSETFROM:-0600
TZOFFSETTO:-0700
TZNAME:MST
DTSTART:20251102T080000
END:STANDARD
BEGIN:DAYLIGHT
TZOFFSETFROM:-0700
TZOFFSETTO:-0600
TZNAME:MDT
DTSTART:20260308T090000
END:DAYLIGHT
BEGIN:STANDARD
TZOFFSETFROM:-0600
TZOFFSETTO:-0700
TZNAME:MST
DTSTART:20261101T080000
END:STANDARD
BEGIN:DAYLIGHT
TZOFFSETFROM:-0700
TZOFFSETTO:-0600
TZNAME:MDT
DTSTART:20270314T090000
END:DAYLIGHT
BEGIN:STANDARD
TZOFFSETFROM:-0600
TZOFFSETTO:-0700
TZNAME:MST
DTSTART:20271107T080000
END:STANDARD
END:VTIMEZONE
BEGIN:VEVENT
DTSTART;TZID=America/Boise:20260425T090000
DTEND;TZID=America/Boise:20260425T150000
DTSTAMP:20260422T125002
CREATED:20260421T203918Z
LAST-MODIFIED:20260421T204200Z
UID:9637-1777107600-1777129200@motoidaho.com
SUMMARY:2026 Sam's Prairie Poker Run
DESCRIPTION:The start is at Treasure Valley Chevron 6450 S Eisenman Rd\, Boise\, ID 83716 at 9am 4/25/2026. \nKSU 9:15. Don’t be late! \nThe route is South down Pleasant Valley Road to pick up Higby cave\, then onto the Potato Hotel. We will cross the Freeway and pick up the Kelton Road Marker\, then off to Danskin Bridge. Next\, we start climbing up to Prairie Overlook and onto Prairie Airport before lunch at the Y-Stop. We’ll pick up our final challenge point\, Long Gulch Falls\, before we head down Blacks Creek Rd for the Journey Home. \nA collectible 2026 IAMC playing card will be given out at the start. Another card will be available at Danskin Bridge One more at the Y-Stop. Cards cannot be shared or exchanged with other riders. Best hand (poke rules) wins a 2026 IAMC collectors playing card set. We will also give out a few Tee-Shirts for 2nd and 3rd. \nGPX File for Ride
URL:https://motoidaho.com/event/2026-sams-prairie-poker-run/
ATTACH;FMTTYPE=image/jpeg:https://motoidaho.com/wp-content/uploads/2026/04/e5f34eac-cb08-49c1-a673-5ab61dee5caa.jpg
END:VEVENT
END:VCALENDAR